BEGIN:VCALENDAR
VERSION:2.0
PRODID:-//华盛顿浙江大学校友会（大华府浙大校友会） - ECPv6.15.3//NONSGML v1.0//EN
CALSCALE:GREGORIAN
METHOD:PUBLISH
X-WR-CALNAME:华盛顿浙江大学校友会（大华府浙大校友会）
X-ORIGINAL-URL:https://zuaadc.org
X-WR-CALDESC:Events for 华盛顿浙江大学校友会（大华府浙大校友会）
REFRESH-INTERVAL;VALUE=DURATION:PT1H
X-Robots-Tag:noindex
X-PUBLISHED-TTL:PT1H
BEGIN:VTIMEZONE
TZID:America/New_York
BEGIN:DAYLIGHT
TZOFFSETFROM:-0500
TZOFFSETTO:-0400
TZNAME:EDT
DTSTART:20260308T070000
END:DAYLIGHT
BEGIN:STANDARD
TZOFFSETFROM:-0400
TZOFFSETTO:-0500
TZNAME:EST
DTSTART:20261101T060000
END:STANDARD
END:VTIMEZONE
BEGIN:VEVENT
DTSTART;VALUE=DATE:20260523
DTEND;VALUE=DATE:20260524
DTSTAMP:20260423T074651
CREATED:20260324T230913Z
LAST-MODIFIED:20260324T233333Z
UID:4036-1779494400-1779580799@zuaadc.org
SUMMARY:“闪光的少年”大华府DMV地区展演选秀火热报名中
DESCRIPTION:#报名链接：https://forms.gle/2gqnTjhxh8EPu3qB9 \n\n  \n    Loading…
URL:https://zuaadc.org/event/stars/
LOCATION:jcc\, 6125 Montrose Rd\, Rockville\, MD\, 20852\, United States
ATTACH;FMTTYPE=image/png:https://zuaadc.org/wp-content/uploads/2026/03/Image_20260325070301_82_330.png
ORGANIZER;CN="%E5%A4%A7%E5%8D%8E%E5%BA%9C%E6%B5%99%E5%A4%A7%E6%A0%A1%E5%8F%8B%E4%BC%9A":MAILTO:dczjuer@gmail.com
END:VEVENT
BEGIN:VEVENT
DTSTART;VALUE=DATE:20260710
DTEND;VALUE=DATE:20260717
DTSTAMP:20260423T074651
CREATED:20260402T002015Z
LAST-MODIFIED:20260402T003234Z
UID:4078-1783641600-1784246399@zuaadc.org
SUMMARY:2026中美学生交流-浙江行报名表
DESCRIPTION:2026 Student Cultural Exchange-Zhejiang Registration FormPlease enable JavaScript in your browser to complete this form.Please enable JavaScript in your browser to complete this form.\n此次夏令营是面向美国青少年的人文交流项目，通过走进浙江大学校园交流、参观杭州“六小龙”等高新科技企业、参访杭州、缙云、温州等代表性文化地标、体验传统文化和现代社会文明，增进美国青少年对中国历史文化、社会风土人情、和当代中国发展的了解，促进中美青少年学生之间的友好交流与相互理解。 \n一、活动时间及地点\n1、时间：2026年7月10日（杭州萧山机场接机）至7月16日（杭州萧山机场送机）\n2、地点：浙江 \n二、参加资质和名额\n1、年龄在13岁-30岁之间的美国学生，需持美国绿卡或美国护照\n2、参访人员20人 \n\n\n三、报名信息\n报名费：$200/每人，报名成功后不返还；押金（Deposit）： $300/每人，需全程完成项目后才返还；\n\n缴费备注需写上“学生全名+ Zhejiang"\n国际往返机票和交通费、签证费等：报名人自付；\n项目期间在浙江的相关保险、住宿、交通、餐饮、活动等均免费。 \n四、活动要求 \n赴华签证需自行提前办理，7月10日需到达杭州，学生家长或监护人不参与陪同，中美承办方均将安排带队教师全程带队；为安全起见，参加学生全程需遵守即定行程活动规定、听从带队教师安排、不得随意改变或增加个人活动。学生或家长提前需签署并在报名表中上传 waiver form，模板请点击下载 waiver form 空白模板。\n五、暂定行程（具体行程可能会有部分修改）\n浙江行（7日）\nDay 1：抵达杭州，西湖北线\n● 上午-下午：杭州萧山机场接机，乘大巴至市区酒店。酒店入住。\n● 傍晚：西湖北线（断桥-白堤）漫步，随后举行欢迎晚宴。住杭州。\n \nDay 2：运河文化\n● 上午：前往桥西历史街区，参观工艺美术博物馆群，并参与非遗手作体验。\n● 下午：乘坐京杭大运河空调游船（如武林门-拱宸桥航线）游览。\n● 晚上：晚餐。住杭州。\n \nDay 3：浙大研学\n● 上午：参访浙江大学玉泉校区机器人基地。\n● 下午：参观浙江大学紫金港校区，参观艺术与考古博物馆及校园。\n● 晚上：校园晚餐。住杭州。\n \nDay 4：参观杭州六小龙等高科技企业\n \nDay 5：缙云古民居\n● 上午：乘大巴前往丽水缙云（车程约2.5小时）。\n● 下午：游览河阳古民居，探访明清古村落。\n● 晚上：入住缙云。\n \nDay 6：缙云仙都景区\n● 上午：游览缙云仙都景区核心——鼎湖峰。寻根问祖黄帝寺\n● 下午：继续游览仙都景区，包括朱潭山、岩宕书房等景点。\n● 晚上：品尝缙云烧饼宴，举行游学小结会。住缙云。\n \nDay 7：杭州西湖西线\n● 上午：乘大巴从缙云返回杭州（车程约3.5小时）。送机萧山机场。夏令营结束 \n联系人：赵老师dczjuer@gmail.com；吕老师 pinglu1123@gmail.com \n承办单位:\n大华府浙江大学校友会（ZUAADC）\n华府青年(Capital Youth Outreach Club\, CYOC)\n协办：美国国际交流创新中心 \nWaiver FormPlease download the waiver form (2026Zhejiang-waiver form). Parent/guardian's signature is required for individuals under 18; individuals aged 18 and older must sign personally. \nUpload Waiver Form(.pdf\, .jpg\, or .png) *\n	\n		\n			\n		\n		Click or drag a file to this area to upload.\n\n			\n\n\nParent/guardian's signature required for individuals under 18; individuals 18 and older must sign personally.Student InformationName (as per passport) *FirstLastDate of Birth *MM123456789101112DD12345678910111213141516171819202122232425262728293031YYYY202720262025202420232022202120202019201820172016201520142013201220112010200920082007200620052004200320022001200019991998199719961995199419931992199119901989198819871986198519841983198219811980197919781977197619751974197319721971197019691968196719661965196419631962196119601959195819571956195519541953195219511950194919481947194619451944194319421941194019391938193719361935193419331932193119301929192819271926192519241923192219211920Applicants must have a birth date falling between June 1\, 1996\, and June 1\, 2013.Gender *MaleFemale		\n			per .jpg\, Waiver\n			\n		\n		Name of School *Contact (Phone or Email Accessible in China) *Nationality (as per passport) *United StatesChinaParent/Guardian InformationName *FirstLastEmail *Phone *Wechat *Agreement *I consent to having this website store my submitted information so they can respond to my inquiry.Payment:\nUpon submitting the form\, you will be directed to the payment page. Please complete the payment to finalize and validate your registration.\n\n\n\n\n\n\n\n\n\n\nIf you want to make payment in RMB or have any question\, please contact us via email (dczjuer@gmail.com) after submitting the registration form.\n\n\n\nSubmit
URL:https://zuaadc.org/event/2026zhejiang/
LOCATION:hangzhou xiaoshan
ATTACH;FMTTYPE=image/jpeg:https://zuaadc.org/wp-content/uploads/2026/04/Image_20260402083149_660_553.jpg
END:VEVENT
BEGIN:VEVENT
DTSTART;VALUE=DATE:20260713
DTEND;VALUE=DATE:20260722
DTSTAMP:20260423T074651
CREATED:20260320T010516Z
LAST-MODIFIED:20260320T012436Z
UID:4018-1783900800-1784678399@zuaadc.org
SUMMARY:2026 ZJUE BioMed Summer Camp Registration
DESCRIPTION:2026 ZJUE BioMed Summer CampPlease enable JavaScript in your browser to complete this form.Please enable JavaScript in your browser to complete this form.		\n			of Credit Email\n			\n		\n		浙江大学爱丁堡大学联合学院---2026年生物医学未来领袖夏令营 \n此次夏令营是面向全球中学生。活动包括生物医药+人工智能的科研训练，专家讲座、参访浙江大学和杭州知名科研院所，文博研学-游览名胜古迹、体验非遗技艺以及国际学生交流等。 \n一、活动时间及地点\n1、时间：2026年7月13日至7月21日\n2、地点：浙江海宁、杭州、乌镇 \n二、参加资质和名额\n1、年龄在14岁以上的美国在校初、高中学生\n2、美国名额10人 \n三、报名信息\n报名费：$205/每人，报名后不返还； \n国际往返机票和交通费、签证费等：报名人自付；\n项目期间相关保险、住宿、交通、餐饮、活动等均免费。 \n四、自行前往校区报到 \n地址：浙江省海宁市海州东路718号 浙江大学（海宁）国际校区 \n交通方式\n火车及高铁：海宁站为距离校区最近的普通火车站点，仅停靠普通列车。乘坐高铁，请选择海宁西站或者桐乡站。 \n公交：可乘坐15\,29\,33路公交车到达校区北门。 \n机场：可以选择到达杭州萧山国际机场、上海虹桥机场或上海浦东机场，后自行前往校区。 \n联系人：赵老师dczjuer@gmail.com；吕老师 pinglu1123@gmail.com \n主办单位：浙江大学爱丁堡大学联合学院 \n承办单位: \n大华府浙江大学校友会 （ZUAADC） \n华府青年(Capital Youth Outreach Club\, CYOC) \n协办：美国国际交流创新研究院 \n \nWaiver FormPlease download the waiver form (2026 ZJUE-waiver form). Parent/guardian's signature is required for individuals under 18; individuals aged 18 and older must sign personally. \nUpload Waiver Form(.pdf\, .jpg\, or .png) *\n	\n		\n			\n		\n		Click or drag a file to this area to upload.\n\n			\n\n\nParent/guardian's signature required for individuals under 18; individuals 18 and older must sign personally.Student InformationName (as per passport) *FirstLastDate of Birth *MM123456789101112DD12345678910111213141516171819202122232425262728293031YYYY202720262025202420232022202120202019201820172016201520142013201220112010200920082007200620052004200320022001200019991998199719961995199419931992199119901989198819871986198519841983198219811980197919781977197619751974197319721971197019691968196719661965196419631962196119601959195819571956195519541953195219511950194919481947194619451944194319421941194019391938193719361935193419331932193119301929192819271926192519241923192219211920Applicants must have a birth date falling between June 1\, 1996\, and June 1\, 2013.Gender *MaleFemaleName of School *Contact (Phone or Email Accessible in China) *Nationality (as per passport) *United StatesChinaPassport NumberParent/Guardian InformationName *FirstLastEmail *Phone *Wechat *Agreement *I consent to having this website store my submitted information so they can respond to my inquiry.Payment: Please complete the payment to finalize and validate your registration.\n\n\n\n\n\n\n\n\n\n\nIf you want to make payment in RMB or have any question\, please contact us via email (dczjuer@gmail.com) after submitting the registration form.\n\n\n\nFee *Summer Camp Registration fee - $205.00Credit Card Processing FeePrice: $5.00Total$0.00Payment *Submit
URL:https://zuaadc.org/event/2026-zjue/
LOCATION:浙江大学（海宁）国际校区\, 浙江省海宁市海州东路718号 浙江大学（海宁）国际校区\, haining\, Zhejiang\, China
ATTACH;FMTTYPE=image/jpeg:https://zuaadc.org/wp-content/uploads/2026/03/zjue.jpeg
END:VEVENT
END:VCALENDAR